BEGIN:VCALENDAR
VERSION:2.0
PRODID:-//Danske Naturister Trekanten - ECPv6.15.15//NONSGML v1.0//EN
CALSCALE:GREGORIAN
METHOD:PUBLISH
X-ORIGINAL-URL:https://dn-trekanten.dk
X-WR-CALDESC:Begivenheder for Danske Naturister Trekanten
REFRESH-INTERVAL;VALUE=DURATION:PT1H
X-Robots-Tag:noindex
X-PUBLISHED-TTL:PT1H
BEGIN:VTIMEZONE
TZID:Europe/Copenhagen
BEGIN:DAYLIGHT
TZOFFSETFROM:+0100
TZOFFSETTO:+0200
TZNAME:CEST
DTSTART:20230326T010000
END:DAYLIGHT
BEGIN:STANDARD
TZOFFSETFROM:+0200
TZOFFSETTO:+0100
TZNAME:CET
DTSTART:20231029T010000
END:STANDARD
BEGIN:DAYLIGHT
TZOFFSETFROM:+0100
TZOFFSETTO:+0200
TZNAME:CEST
DTSTART:20240331T010000
END:DAYLIGHT
BEGIN:STANDARD
TZOFFSETFROM:+0200
TZOFFSETTO:+0100
TZNAME:CET
DTSTART:20241027T010000
END:STANDARD
BEGIN:DAYLIGHT
TZOFFSETFROM:+0100
TZOFFSETTO:+0200
TZNAME:CEST
DTSTART:20250330T010000
END:DAYLIGHT
BEGIN:STANDARD
TZOFFSETFROM:+0200
TZOFFSETTO:+0100
TZNAME:CET
DTSTART:20251026T010000
END:STANDARD
END:VTIMEZONE
BEGIN:VEVENT
DTSTART;TZID=Europe/Copenhagen:20241214T170000
DTEND;TZID=Europe/Copenhagen:20241214T235900
DTSTAMP:20260420T020020
CREATED:20240714T165743Z
LAST-MODIFIED:20240906T141026Z
UID:10000058-1734195600-1734220740@dn-trekanten.dk
SUMMARY:Naturist wellness i Tønder Svømmehal
DESCRIPTION:Tønder svømmehal byder på 25 meter bassin\, varmtvandsbassin (34 grader)\, indendørs sauna\, i\nomklædningsrum\, dampbad og vandrutsjebane.\nI wellness område udendørs findes der spa og udendørs sauna\, hvor der afholdes gus.\nUnder gus vil der være vand\, isterninger og frugt.\nNærmere beskrivelse af arrangementet findes her
URL:https://dn-trekanten.dk/kalender/naturist-wellness-i-toender-svoemmehal/
LOCATION:Tønder Svømmehal\, Sønderlandevej 4\, Tønder\, 6270
CATEGORIES:Wellness
ORGANIZER;CN="DN-T":MAILTO:peder@naturister.dk
END:VEVENT
END:VCALENDAR